BEGIN:VCALENDAR
VERSION:2.0
PRODID:-//Sophicity/Tribune/Barwick, GA
BEGIN:VEVENT
DTSTAMP:20260426T023415Z
UID:48a9ef45-aaac-4c68-b88f-d377a28f3e31-8534
DTSTART:20220409T190000Z
DTEND:20220409T210000Z
CLASS:PUBLIC
SUMMARY:Easter Egg Hunt in Central Park
END:VEVENT
END:VCALENDAR
