BEGIN:VCALENDAR
VERSION:2.0
PRODID:-//Sophicity/Tribune/Barwick, GA
BEGIN:VEVENT
DTSTAMP:20260426T023518Z
UID:48a9ef45-aaac-4c68-b88f-d377a28f3e31-8556
DTSTART:20250121T233000Z
DTEND:20250122T003000Z
LOCATION:City Hall
CLASS:PUBLIC
SUMMARY:Council Meeting
END:VEVENT
END:VCALENDAR
