BEGIN:VCALENDAR
VERSION:2.0
PRODID:-//Sophicity/Tribune/Barwick, GA
BEGIN:VEVENT
DTSTAMP:20260426T035345Z
UID:48a9ef45-aaac-4c68-b88f-d377a28f3e31-8566
DTSTART:20251118T233000Z
DTEND:20251119T003000Z
LOCATION:City Hall
CLASS:PUBLIC
SUMMARY:Council Meeting
END:VEVENT
END:VCALENDAR
