BEGIN:VCALENDAR
VERSION:2.0
PRODID:-//Sophicity/Tribune/Barwick, GA
BEGIN:VEVENT
DTSTAMP:20260426T023415Z
UID:48a9ef45-aaac-4c68-b88f-d377a28f3e31-8567
DTSTART:20251216T233000Z
DTEND:20251217T003000Z
LOCATION:City Hall
CLASS:PUBLIC
SUMMARY:Council Meeting
END:VEVENT
END:VCALENDAR
