BEGIN:VCALENDAR
VERSION:2.0
PRODID:-//Sophicity/Tribune/Barwick, GA
BEGIN:VEVENT
DTSTAMP:20260426T023415Z
UID:48a9ef45-aaac-4c68-b88f-d377a28f3e31-8568
DTSTART:20250114T233000Z
DTEND:20250115T003000Z
CLASS:PUBLIC
SUMMARY:Called Council Meeting to Discuss/Decide on HB 581
END:VEVENT
END:VCALENDAR
